BEGIN:VCALENDAR
VERSION:2.0
PRODID:-//Library Market//iCal Export//EN
BEGIN:VEVENT
SUMMARY:Knitting
UID:6721
DTSTAMP:20260425T200200Z
DTSTART:20260504T150000Z
DTEND:20260504T170000Z
LOCATION:225 W Main St, Platteville, WI 53818, United States
ROOM: Conference Room (210)
DESCRIPTION:Knitting
URL:https://platteville.librarycalendar.com/event/knitting-6721
END:VEVENT
END:VCALENDAR
